{"text_format":"1","workbook":"xlsx","n_sheets":3,"sheets":["採点用紙","成績票","成績票２"],"not_rendered":{"charts":0,"images":7,"macros":1,"external_links":0,"defined_names":2,"comments":0,"pivot_tables":0},"unopened":[],"bounds":{"document_bytes":16777216,"sheet_cells":100000,"rows_first":2000,"rows_last":500,"rows_between":2000,"halvings":0,"cell_chars":16384,"cell_head_chars":4096},"cells_cut":0,"cells_raw":0,"read":"whole","date_system":"1900"}

{"sheet":"採点用紙","index":0,"n_rows":144,"n_cols":105,"rows_kept":144,"cut":false,"hidden":false,"merged":[[98,0,98,2],[0,0,1,1],[2,0,3,0],[2,1,3,1],[2,3,2,4],[3,3,3,4],[0,3,0,4],[1,3,1,4]]}
[null,null,null,"問題番号",null,1,2,3,4,5,6,7,8,9,10,11,12,13,14,15,16,17,18,19,20,21,22,23,24,25,26,27,28,29,30,31,32,33,34,35,36,37,38,39,40,41,42,43,44,45,46,47,48,49,50,51,52,53,54,55,56,57,58,59,60,61,62,63,64,65,66,67,68,69,70,71,72,73,74,75,76,77,78,79,80,81,82,83,84,85,86,87,88,89,90,91,92,93,94,95,96,97,98,99,100]
[null,null,null,"解　答",null,"X","X","X","X","X","X","X","X","X","X","X","X","X","X","X","X","X","X","X","X","X","X","X","X","X","X","X","X","X","X","X","X","X","X","X","X","X","X","X","X","X","X","X","X","X","X","X","X","X","X","X","X","X","X","X","X","X","X","X","X","X","X","X","X","X","X","X","X","X","X","X","X","X","X","X","X","X","X","X","X","X","X","X","X","X","X","X","X","X","X","X","X","X","X","X","X","X","X","X","X"]
["番号","氏　　名",{"$f":"SUM(F3:DA3)","v":0},"知・技"]
[null,null,{"$f":"SUM(F4:DA4)","v":0},"思・判・表"]
[1,null,null,null,{"$f":"IF(B5<>\"\",\"点\",\"\")","v":""}]
[2,null,null,null,{"$f":"IF(B6<>\"\",\"点\",\"\")","v":""}]
[3,null,null,null,""]
[4,null,null,null,""]
[5,null,null,null,""]
[6,null,null,null,""]
[7,null,null,null,""]
[8,null,null,null,""]
[9,null,null,null,""]
[10,null,null,null,""]
[11,null,null,null,""]
[12,null,null,null,""]
[13,null,null,null,""]
[14,null,null,null,""]
[15,null,null,null,""]
[16,null,null,null,""]
[17,null,null,null,""]
[18,null,null,null,""]
[19,null,null,null,""]
[20,null,null,null,""]
[21,null,null,null,""]
[22,null,null,null,""]
[23,null,null,null,""]
[24,null,null,null,""]
[25,null,null,null,""]
[26,null,null,null,""]
[27,null,null,null,""]
[28,null,null,null,""]
[29,null,null,null,""]
[30,null,null,null,""]
[31,null,null,null,""]
[32,null,null,null,""]
[33,null,null,null,""]
[34,null,null,null,""]
[35,null,null,null,""]
[36,null,null,null,""]
[37,null,null,null,""]
[38,null,null,null,""]
[39,null,null,null,""]
[40,null,null,null,""]
[41,null,null,null,""]
[42,null,null,null,""]
[43,null,null,null,""]
[44,null,null,null,""]
[45,null,null,null,""]
[]
[]
[]
[]
[]
[]
[]
[]
[]
[]
[]
[]
[]
[]
[]
[]
[]
[]
[]
[]
[]
[]
[]
[]
[]
[]
[]
[]
[]
[]
[]
[]
[]
[]
[]
[]
[]
[]
[]
[]
[]
[]
[]
[]
[]
[]
[]
[]
[]
["自動集計用枠"]
[1,null,{"$f":"SUM(F100:DA100)","v":0},null,null,{"$f":"IF(F5=F$2,F$3,0)","v":0},0,0,0,0,0,0,0,0,0,0,0,0,0,0,0,0,0,0,0,0,0,0,0,0,0,0,0,0,0,0,0,{"$f":"IF(AL5=AL$2,AL$3,0)","v":0},0,0,0,0,0,0,0,0,0,0,0,0,0,0,0,0,0,0,0,0,0,0,0,0,0,0,0,0,0,0,0,{"$f":"IF(BR5=BR$2,BR$3,0)","v":0},0,0,0,0,0,0,0,0,0,0,0,0,0,0,0,0,0,0,0,0,0,0,0,0,0,0,0,0,0,0,0,0,0,0,0]
[2,null,{"$f":"SUM(F101:DA101)","v":0},null,null,{"$f":"IF(F6=F$2,F$3,0)","v":0},0,0,0,0,0,0,0,0,0,0,0,0,0,0,0,{"$f":"IF(V6=V$2,V$3,0)","v":0},0,0,0,0,0,0,0,0,0,0,0,0,0,0,0,0,0,0,0,0,0,0,0,0,0,0,0,0,0,0,0,0,0,0,0,0,0,0,0,0,0,0,0,0,0,0,0,0,{"$f":"IF(BS6=BS$2,BS$3,0)","v":0},0,0,0,0,0,0,0,0,0,0,0,0,0,0,0,0,0,0,0,0,0,0,0,0,0,0,0,0,0,0,0,0,0,0]
[3,null,0,null,null,0,{"$f":"IF(G7=G$2,G$3,0)","v":0},0,0,0,0,0,0,0,0,0,0,0,0,0,0,0,0,0,0,0,0,0,0,0,0,0,0,0,0,0,0,0,0,0,0,0,0,0,0,0,0,0,0,0,0,0,0,0,0,0,0,0,0,0,0,0,0,0,0,0,0,0,0,0,0,0,0,0,0,0,0,0,0,0,0,0,0,0,0,0,0,0,0,0,0,0,0,0,0,0,0,0,0,0,0,0,0,0,0]
[4,null,0,null,null,0,0,0,0,0,0,0,0,0,0,0,0,0,0,0,0,0,0,0,0,0,0,0,0,0,0,0,0,0,0,0,0,0,0,0,0,0,0,0,0,0,0,0,0,0,0,0,0,0,0,0,0,0,0,0,0,0,0,0,0,0,0,0,0,0,0,0,0,0,0,0,0,0,0,0,0,0,0,0,0,0,0,0,0,0,0,0,0,0,0,0,0,0,0,0,0,0,0,0,0]
[5,null,0,null,null,0,0,0,0,0,0,0,0,0,0,0,0,0,0,0,0,0,0,0,0,0,0,0,0,0,0,0,0,0,0,0,0,0,0,0,0,0,0,0,0,0,0,0,0,0,0,0,0,0,0,0,0,0,0,0,0,0,0,0,0,0,0,0,0,0,0,0,0,0,0,0,0,0,0,0,0,0,0,0,0,0,0,0,0,0,0,0,0,0,0,0,0,0,0,0,0,0,0,0,0]
[6,null,0,null,null,0,0,0,0,0,0,0,0,0,0,0,0,0,0,0,0,0,0,0,0,0,0,0,0,0,0,0,0,0,0,0,0,0,0,0,0,0,0,0,0,0,0,0,0,0,0,0,0,0,0,0,0,0,0,0,0,0,0,0,0,0,0,0,0,{"$f":"IF(BR10=BR$2,BR$3,0)","v":0},0,0,0,0,0,0,0,0,0,0,0,0,0,0,0,0,0,0,0,0,0,0,0,0,0,0,0,0,0,0,0,0,0,0,0]
[7,null,0,null,null,0,{"$f":"IF(G11=G$2,G$3,0)","v":0},0,0,0,0,0,0,0,0,0,0,0,0,0,0,0,0,0,0,0,0,0,0,0,0,0,0,0,0,0,0,0,0,0,0,0,0,0,0,0,0,0,0,0,0,0,0,0,0,0,0,0,0,0,0,0,0,0,0,0,0,0,0,0,0,0,0,0,0,0,0,0,0,0,0,0,0,0,0,0,0,0,0,0,0,0,0,0,0,0,0,0,0,0,0,0,0,0,0]
[8,null,0,null,null,0,0,0,0,0,0,0,0,0,0,0,0,0,0,0,0,0,0,0,0,0,0,0,0,0,0,0,0,0,0,0,0,0,0,0,0,0,0,0,0,0,0,0,0,0,0,0,0,0,0,0,0,0,0,0,0,0,0,0,0,0,0,0,0,0,0,0,0,0,0,0,0,0,0,0,0,0,0,0,0,0,0,0,0,0,0,0,0,0,0,0,0,0,0,0,0,0,0,0,0]
[9,null,0,null,null,0,0,0,0,0,0,0,0,0,0,0,0,0,0,0,0,0,0,0,0,0,0,0,0,0,0,0,0,0,0,0,0,0,0,0,0,0,0,0,0,0,0,0,0,0,0,0,0,0,0,0,0,0,0,0,0,0,0,0,0,0,0,0,0,0,0,0,0,0,0,0,0,0,0,0,0,0,0,0,0,0,0,0,0,0,0,0,0,0,0,0,0,0,0,0,0,0,0,0,0]
[10,null,0,null,null,0,0,0,0,0,0,0,0,0,0,0,0,0,0,0,0,0,0,0,0,0,0,0,0,0,0,0,0,0,0,0,0,0,0,0,0,0,0,0,0,0,0,0,0,0,0,0,0,0,0,0,0,0,0,0,0,0,0,0,0,0,0,0,0,{"$f":"IF(BR14=BR$2,BR$3,0)","v":0},0,0,0,0,0,0,0,0,0,0,0,0,0,0,0,0,0,0,0,0,0,0,0,0,0,0,0,0,0,0,0,0,0,0,0]
[11,null,0,null,null,{"$f":"IF(F16=F$2,F$3,0)","v":0},0,0,0,0,0,0,0,0,0,0,0,0,0,0,0,0,0,0,0,0,0,0,0,0,0,0,0,0,0,0,0,{"$f":"IF(AL16=AL$2,AL$3,0)","v":0},0,0,0,0,0,0,0,0,0,0,0,0,0,0,0,0,0,{"$f":"IF(BD15=BD$2,BD$3,0)","v":0},0,0,0,0,0,0,0,0,0,0,0,0,0,0,0,0,0,0,0,0,0,0,0,0,0,0,0,0,0,0,0,0,0,0,0,0,0,0,0,0,0,0,0,0,0,0,0,0,0]
[12,null,0,null,null,{"$f":"IF(F17=F$2,F$3,0)","v":0},0,0,0,0,0,0,0,0,0,0,0,0,0,0,0,0,0,0,0,0,0,0,0,0,0,0,0,0,0,0,0,{"$f":"IF(AL17=AL$2,AL$3,0)","v":0},0,0,0,0,0,0,0,0,0,0,0,0,0,0,0,0,0,0,0,0,0,0,0,0,0,0,0,0,0,0,0,0,0,0,0,0,0,0,0,0,0,0,0,0,0,0,0,0,0,0,0,0,0,0,0,0,0,0,0,0,0,0,0,0,0,0,0]
[13,null,0,null,null,{"$f":"IF(F18=F$2,F$3,0)","v":0},0,0,0,0,0,0,0,0,0,0,0,0,0,0,0,0,0,0,0,0,0,0,0,0,0,0,0,0,0,0,0,{"$f":"IF(AL18=AL$2,AL$3,0)","v":0},0,0,0,0,0,0,0,0,0,0,0,0,0,0,0,0,0,0,0,0,0,0,0,0,0,0,0,0,0,0,0,0,0,0,0,0,0,0,0,0,0,0,0,0,0,0,0,0,0,0,0,0,0,0,0,0,0,0,0,0,0,0,0,0,0,0,0]
[14,null,0,null,null,{"$f":"IF(F19=F$2,F$3,0)","v":0},0,0,0,0,0,0,0,0,0,0,0,0,0,0,0,0,0,0,0,0,0,0,0,0,0,0,0,0,0,0,0,{"$f":"IF(AL19=AL$2,AL$3,0)","v":0},0,0,0,0,0,0,0,0,0,0,0,0,0,0,0,0,0,0,0,0,0,0,0,0,0,0,0,0,0,0,0,{"$f":"IF(BR18=BR$2,BR$3,0)","v":0},0,0,0,0,0,0,0,0,0,0,0,0,0,0,0,0,0,0,0,0,0,0,0,0,0,0,0,0,0,0,0,0,0,0,0]
[15,null,0,null,null,{"$f":"IF(F20=F$2,F$3,0)","v":0},0,0,0,0,0,0,0,0,0,0,0,0,0,0,0,0,0,0,0,0,0,0,0,0,0,0,0,0,0,0,0,{"$f":"IF(AL20=AL$2,AL$3,0)","v":0},0,0,0,0,0,0,0,0,0,0,0,0,0,0,0,0,0,{"$f":"IF(BD19=BD$2,BD$3,0)","v":0},0,0,0,0,0,0,0,0,0,0,0,0,0,0,0,0,0,0,0,0,0,0,0,0,0,0,0,0,0,0,0,0,0,0,0,0,0,0,0,0,0,0,0,0,0,0,0,0,0]
[16,null,0,null,null,{"$f":"IF(F21=F$2,F$3,0)","v":0},0,0,0,0,0,0,0,0,0,0,0,0,0,0,0,0,0,0,0,0,0,0,0,0,0,0,0,0,0,0,0,{"$f":"IF(AL21=AL$2,AL$3,0)","v":0},0,0,0,0,0,0,0,0,0,0,0,0,0,0,0,0,0,0,0,0,0,0,0,0,0,0,0,0,0,0,0,0,0,0,0,0,0,0,0,0,0,0,0,0,0,0,0,0,0,0,0,0,0,0,0,0,0,0,0,0,0,0,0,0,0,0,0]
[17,null,0,null,null,{"$f":"IF(F22=F$2,F$3,0)","v":0},0,0,0,0,0,0,0,0,0,0,0,0,0,0,0,0,0,0,0,0,0,0,0,0,0,0,0,0,0,0,0,{"$f":"IF(AL22=AL$2,AL$3,0)","v":0},0,0,0,0,0,0,0,0,0,0,0,0,0,0,0,0,0,0,0,0,0,0,0,0,0,0,0,0,0,0,0,0,0,0,0,0,0,0,0,0,0,0,0,0,0,0,0,0,0,0,0,0,0,0,0,0,0,0,0,0,0,0,0,0,0,0,0]
[18,null,0,null,null,{"$f":"IF(F23=F$2,F$3,0)","v":0},0,0,0,0,0,0,0,0,0,0,0,0,0,0,0,0,0,0,0,0,0,0,0,0,0,0,0,0,0,0,0,{"$f":"IF(AL23=AL$2,AL$3,0)","v":0},0,0,0,0,0,0,0,0,0,0,0,0,0,0,0,0,0,0,0,0,0,0,0,0,0,0,0,0,0,0,0,{"$f":"IF(BR22=BR$2,BR$3,0)","v":0},0,0,0,0,0,0,0,0,0,0,0,0,0,0,0,0,0,0,0,0,0,0,0,0,0,0,0,0,0,0,0,0,0,0,0]
[19,null,0,null,null,{"$f":"IF(F24=F$2,F$3,0)","v":0},0,0,0,0,0,0,0,0,0,0,0,0,0,0,0,0,0,0,0,0,0,0,0,0,0,0,0,0,0,0,0,{"$f":"IF(AL24=AL$2,AL$3,0)","v":0},0,0,0,0,0,0,0,0,0,0,0,0,0,0,0,0,0,{"$f":"IF(BD23=BD$2,BD$3,0)","v":0},0,0,0,0,0,0,0,0,0,0,0,0,0,0,0,0,0,0,0,0,0,0,0,0,0,0,0,0,0,0,0,0,0,0,0,0,0,0,0,0,0,0,0,0,0,0,0,0,0]
[20,null,0,null,null,{"$f":"IF(F25=F$2,F$3,0)","v":0},0,0,0,0,0,0,0,0,0,0,0,0,0,0,0,0,0,0,0,0,0,0,0,0,0,0,0,0,0,0,0,{"$f":"IF(AL25=AL$2,AL$3,0)","v":0},0,0,0,0,0,0,0,0,0,0,0,0,0,0,0,0,0,0,0,0,0,0,0,0,0,0,0,0,0,0,0,0,0,0,0,0,0,0,0,0,0,0,0,0,0,0,0,0,0,0,0,0,0,0,0,0,0,0,0,0,0,0,0,0,0,0,0]
[21,null,0,null,null,{"$f":"IF(F26=F$2,F$3,0)","v":0},0,0,0,0,0,0,0,0,0,0,0,0,0,0,0,0,0,0,0,0,0,0,0,0,0,0,0,0,0,0,0,{"$f":"IF(AL26=AL$2,AL$3,0)","v":0},0,0,0,0,0,0,0,0,0,0,0,0,0,0,0,0,0,0,0,0,0,0,0,0,0,0,0,0,0,0,0,0,0,0,0,0,0,0,0,0,0,0,0,0,0,0,0,0,0,0,0,0,0,0,0,0,0,0,0,0,0,0,0,0,0,0,0]
[22,null,0,null,null,{"$f":"IF(F27=F$2,F$3,0)","v":0},0,0,0,0,0,0,0,0,0,0,0,0,0,0,0,0,0,0,0,0,0,0,0,0,0,0,0,0,0,0,0,{"$f":"IF(AL27=AL$2,AL$3,0)","v":0},0,0,0,0,0,0,0,0,0,0,0,0,0,0,0,0,0,0,0,0,0,0,0,0,0,0,0,0,0,0,0,{"$f":"IF(BR26=BR$2,BR$3,0)","v":0},0,0,0,0,0,0,0,0,0,0,0,0,0,0,0,0,0,0,0,0,0,0,0,0,0,0,0,0,0,0,0,0,0,0,0]
[23,null,0,null,null,{"$f":"IF(F28=F$2,F$3,0)","v":0},0,0,0,0,0,0,0,0,0,0,0,0,0,0,0,0,0,0,0,0,0,0,0,0,0,0,0,0,0,0,0,{"$f":"IF(AL28=AL$2,AL$3,0)","v":0},0,0,0,0,0,0,0,0,0,0,0,0,0,0,0,0,0,{"$f":"IF(BD27=BD$2,BD$3,0)","v":0},0,0,0,0,0,0,0,0,0,0,0,0,0,0,0,0,0,0,0,0,0,0,0,0,0,0,0,0,0,0,0,0,0,0,0,0,0,0,0,0,0,0,0,0,0,0,0,0,0]
[24,null,0,null,null,{"$f":"IF(F29=F$2,F$3,0)","v":0},0,0,0,0,0,0,0,0,0,0,0,0,0,0,0,0,0,0,0,0,0,0,0,0,0,0,0,0,0,0,0,{"$f":"IF(AL29=AL$2,AL$3,0)","v":0},0,0,0,0,0,0,0,0,0,0,0,0,0,0,0,0,0,0,0,0,0,0,0,0,0,0,0,0,0,0,0,0,0,0,0,0,0,0,0,0,0,0,0,0,0,0,0,0,0,0,0,0,0,0,0,0,0,0,0,0,0,0,0,0,0,0,0]
[25,null,0,null,null,{"$f":"IF(F31=F$2,F$3,0)","v":0},0,0,0,0,0,0,0,0,0,0,0,0,0,0,0,0,0,0,0,0,0,0,0,0,0,0,0,0,0,0,0,{"$f":"IF(AL31=AL$2,AL$3,0)","v":0},0,0,0,0,0,0,0,0,0,0,0,0,0,0,0,0,0,0,0,0,0,0,0,0,0,0,0,0,0,0,0,0,0,0,0,0,0,0,0,0,0,0,0,0,0,0,0,0,0,0,0,0,0,0,0,0,0,0,0,0,0,0,0,0,0,0,0]
[26,null,0,null,null,{"$f":"IF(F32=F$2,F$3,0)","v":0},0,0,0,0,0,0,0,0,0,0,0,0,0,0,0,0,0,0,0,0,0,0,0,0,0,0,0,0,0,0,0,{"$f":"IF(AL32=AL$2,AL$3,0)","v":0},0,0,0,0,0,0,0,0,0,0,0,0,0,0,0,0,0,0,0,0,0,0,0,0,0,0,0,0,0,0,0,{"$f":"IF(BR30=BR$2,BR$3,0)","v":0},0,0,0,0,0,0,0,0,0,0,0,0,0,0,0,0,0,0,0,0,0,0,0,0,0,0,0,0,0,0,0,0,0,0,0]
[27,null,0,null,null,{"$f":"IF(F33=F$2,F$3,0)","v":0},0,0,0,0,0,0,0,0,0,0,0,0,0,0,0,0,0,0,0,0,0,0,0,0,0,0,0,0,0,0,0,{"$f":"IF(AL33=AL$2,AL$3,0)","v":0},0,0,0,0,0,0,0,0,0,0,0,0,0,0,0,0,0,{"$f":"IF(BD31=BD$2,BD$3,0)","v":0},0,0,0,0,0,0,0,0,0,0,0,0,0,0,0,0,0,0,0,0,0,0,0,0,0,0,0,0,0,0,0,0,0,0,0,0,0,0,0,0,0,0,0,0,0,0,0,0,0]
[28,null,0,null,null,{"$f":"IF(F34=F$2,F$3,0)","v":0},0,0,0,0,0,0,0,0,0,0,0,0,0,0,0,0,0,0,0,0,0,0,0,0,0,0,0,0,0,0,0,{"$f":"IF(AL34=AL$2,AL$3,0)","v":0},0,0,0,0,0,0,0,0,0,0,0,0,0,0,0,0,0,0,0,0,0,0,0,0,0,0,0,0,0,0,0,0,0,0,0,0,0,0,0,0,0,0,0,0,0,0,0,0,0,0,0,0,0,0,0,0,0,0,0,0,0,0,0,0,0,0,0]
[29,null,0,null,null,{"$f":"IF(F35=F$2,F$3,0)","v":0},0,0,0,0,0,0,0,0,0,0,0,0,0,0,0,0,0,0,0,0,0,0,0,0,0,0,0,0,0,0,0,{"$f":"IF(AL35=AL$2,AL$3,0)","v":0},0,0,0,0,0,0,0,0,0,0,0,0,0,0,0,0,0,0,0,0,0,0,0,0,0,0,0,0,0,0,0,0,0,0,0,0,0,0,0,0,0,0,0,0,0,0,0,0,0,0,0,0,0,0,0,0,0,0,0,0,0,0,0,0,0,0,0]
[30,null,0,null,null,{"$f":"IF(F36=F$2,F$3,0)","v":0},0,0,0,0,0,0,0,0,0,0,0,0,0,0,0,0,0,0,0,0,0,0,0,0,0,0,0,0,0,0,0,{"$f":"IF(AL36=AL$2,AL$3,0)","v":0},0,0,0,0,0,0,0,0,0,0,0,0,0,0,0,0,0,0,0,0,0,0,0,0,0,0,0,0,0,0,0,{"$f":"IF(BR34=BR$2,BR$3,0)","v":0},0,0,0,0,0,0,0,0,0,0,0,0,0,0,0,0,0,0,0,0,0,0,0,0,0,0,0,0,0,0,0,0,0,0,0]
[31,null,{"$error":"#REF!"},null,null,{"$f":"IF(#REF!=F$2,F$3,0)","v":{"$error":"#REF!"}},{"$f":"IF(#REF!=G$2,G$3,0)","v":{"$error":"#REF!"}},{"$f":"IF(#REF!=H$2,H$3,0)","v":{"$error":"#REF!"}},{"$f":"IF(#REF!=I$2,I$3,0)","v":{"$error":"#REF!"}},{"$f":"IF(#REF!=J$2,J$3,0)","v":{"$error":"#REF!"}},{"$f":"IF(#REF!=K$2,K$3,0)","v":{"$error":"#REF!"}},{"$f":"IF(#REF!=L$2,L$3,0)","v":{"$error":"#REF!"}},{"$f":"IF(#REF!=M$2,M$3,0)","v":{"$error":"#REF!"}},{"$f":"IF(#REF!=N$2,N$3,0)","v":{"$error":"#REF!"}},{"$f":"IF(#REF!=O$2,O$3,0)","v":{"$error":"#REF!"}},{"$f":"IF(#REF!=P$2,P$3,0)","v":{"$error":"#REF!"}},{"$f":"IF(#REF!=Q$2,Q$3,0)","v":{"$error":"#REF!"}},{"$f":"IF(#REF!=R$2,R$3,0)","v":{"$error":"#REF!"}},{"$f":"IF(#REF!=S$2,S$3,0)","v":{"$error":"#REF!"}},{"$f":"IF(#REF!=T$2,T$3,0)","v":{"$error":"#REF!"}},{"$f":"IF(#REF!=U$2,U$3,0)","v":{"$error":"#REF!"}},{"$f":"IF(#REF!=V$2,V$3,0)","v":{"$error":"#REF!"}},{"$f":"IF(#REF!=W$2,W$3,0)","v":{"$error":"#REF!"}},{"$f":"IF(#REF!=X$2,X$3,0)","v":{"$error":"#REF!"}},{"$f":"IF(#REF!=Y$2,Y$3,0)","v":{"$error":"#REF!"}},{"$f":"IF(#REF!=Z$2,Z$3,0)","v":{"$error":"#REF!"}},{"$f":"IF(#REF!=AA$2,AA$3,0)","v":{"$error":"#REF!"}},{"$f":"IF(#REF!=AB$2,AB$3,0)","v":{"$error":"#REF!"}},{"$f":"IF(#REF!=AC$2,AC$3,0)","v":{"$error":"#REF!"}},{"$f":"IF(#REF!=AD$2,AD$3,0)","v":{"$error":"#REF!"}},{"$f":"IF(#REF!=AE$2,AE$3,0)","v":{"$error":"#REF!"}},{"$f":"IF(#REF!=AF$2,AF$3,0)","v":{"$error":"#REF!"}},{"$f":"IF(#REF!=AG$2,AG$3,0)","v":{"$error":"#REF!"}},{"$f":"IF(#REF!=AH$2,AH$3,0)","v":{"$error":"#REF!"}},{"$f":"IF(#REF!=AI$2,AI$3,0)","v":{"$error":"#REF!"}},{"$f":"IF(#REF!=AJ$2,AJ$3,0)","v":{"$error":"#REF!"}},{"$f":"IF(#REF!=AK$2,AK$3,0)","v":{"$error":"#REF!"}},{"$f":"IF(#REF!=AL$2,AL$3,0)","v":{"$error":"#REF!"}},{"$f":"IF(#REF!=AM$2,AM$3,0)","v":{"$error":"#REF!"}},{"$f":"IF(#REF!=AN$2,AN$3,0)","v":{"$error":"#REF!"}},{"$f":"IF(#REF!=AO$2,AO$3,0)","v":{"$error":"#REF!"}},{"$f":"IF(#REF!=AP$2,AP$3,0)","v":{"$error":"#REF!"}},{"$f":"IF(#REF!=AQ$2,AQ$3,0)","v":{"$error":"#REF!"}},{"$f":"IF(#REF!=AR$2,AR$3,0)","v":{"$error":"#REF!"}},{"$f":"IF(#REF!=AS$2,AS$3,0)","v":{"$error":"#REF!"}},{"$f":"IF(#REF!=AT$2,AT$3,0)","v":{"$error":"#REF!"}},{"$f":"IF(#REF!=AU$2,AU$3,0)","v":{"$error":"#REF!"}},{"$f":"IF(#REF!=AV$2,AV$3,0)","v":{"$error":"#REF!"}},{"$f":"IF(#REF!=AW$2,AW$3,0)","v":{"$error":"#REF!"}},{"$f":"IF(#REF!=AX$2,AX$3,0)","v":{"$error":"#REF!"}},{"$f":"IF(#REF!=AY$2,AY$3,0)","v":{"$error":"#REF!"}},{"$f":"IF(#REF!=AZ$2,AZ$3,0)","v":{"$error":"#REF!"}},{"$f":"IF(#REF!=BA$2,BA$3,0)","v":{"$error":"#REF!"}},{"$f":"IF(#REF!=BB$2,BB$3,0)","v":{"$error":"#REF!"}},{"$f":"IF(#REF!=BC$2,BC$3,0)","v":{"$error":"#REF!"}},{"$f":"IF(BD35=BD$2,BD$3,0)","v":0},0,0,0,0,0,0,0,0,0,0,0,0,0,0,0,0,0,0,0,0,0,0,0,0,0,0,0,0,0,0,0,0,0,0,0,0,0,0,0,0,0,0,0,0,0,0,0,0,0]
[32,null,{"$error":"#REF!"},null,null,{"$f":"IF(#REF!=F$2,F$3,0)","v":{"$error":"#REF!"}},{"$f":"IF(#REF!=G$2,G$3,0)","v":{"$error":"#REF!"}},{"$f":"IF(#REF!=H$2,H$3,0)","v":{"$error":"#REF!"}},{"$f":"IF(#REF!=I$2,I$3,0)","v":{"$error":"#REF!"}},{"$f":"IF(#REF!=J$2,J$3,0)","v":{"$error":"#REF!"}},{"$f":"IF(#REF!=K$2,K$3,0)","v":{"$error":"#REF!"}},{"$f":"IF(#REF!=L$2,L$3,0)","v":{"$error":"#REF!"}},{"$f":"IF(#REF!=M$2,M$3,0)","v":{"$error":"#REF!"}},{"$f":"IF(#REF!=N$2,N$3,0)","v":{"$error":"#REF!"}},{"$f":"IF(#REF!=O$2,O$3,0)","v":{"$error":"#REF!"}},{"$f":"IF(#REF!=P$2,P$3,0)","v":{"$error":"#REF!"}},{"$f":"IF(#REF!=Q$2,Q$3,0)","v":{"$error":"#REF!"}},{"$f":"IF(#REF!=R$2,R$3,0)","v":{"$error":"#REF!"}},{"$f":"IF(#REF!=S$2,S$3,0)","v":{"$error":"#REF!"}},{"$f":"IF(#REF!=T$2,T$3,0)","v":{"$error":"#REF!"}},{"$f":"IF(#REF!=U$2,U$3,0)","v":{"$error":"#REF!"}},{"$f":"IF(#REF!=V$2,V$3,0)","v":{"$error":"#REF!"}},{"$f":"IF(#REF!=W$2,W$3,0)","v":{"$error":"#REF!"}},{"$f":"IF(#REF!=X$2,X$3,0)","v":{"$error":"#REF!"}},{"$f":"IF(#REF!=Y$2,Y$3,0)","v":{"$error":"#REF!"}},{"$f":"IF(#REF!=Z$2,Z$3,0)","v":{"$error":"#REF!"}},{"$f":"IF(#REF!=AA$2,AA$3,0)","v":{"$error":"#REF!"}},{"$f":"IF(#REF!=AB$2,AB$3,0)","v":{"$error":"#REF!"}},{"$f":"IF(#REF!=AC$2,AC$3,0)","v":{"$error":"#REF!"}},{"$f":"IF(#REF!=AD$2,AD$3,0)","v":{"$error":"#REF!"}},{"$f":"IF(#REF!=AE$2,AE$3,0)","v":{"$error":"#REF!"}},{"$f":"IF(#REF!=AF$2,AF$3,0)","v":{"$error":"#REF!"}},{"$f":"IF(#REF!=AG$2,AG$3,0)","v":{"$error":"#REF!"}},{"$f":"IF(#REF!=AH$2,AH$3,0)","v":{"$error":"#REF!"}},{"$f":"IF(#REF!=AI$2,AI$3,0)","v":{"$error":"#REF!"}},{"$f":"IF(#REF!=AJ$2,AJ$3,0)","v":{"$error":"#REF!"}},{"$f":"IF(#REF!=AK$2,AK$3,0)","v":{"$error":"#REF!"}},{"$f":"IF(#REF!=AL$2,AL$3,0)","v":{"$error":"#REF!"}},{"$f":"IF(#REF!=AM$2,AM$3,0)","v":{"$error":"#REF!"}},{"$f":"IF(#REF!=AN$2,AN$3,0)","v":{"$error":"#REF!"}},{"$f":"IF(#REF!=AO$2,AO$3,0)","v":{"$error":"#REF!"}},{"$f":"IF(#REF!=AP$2,AP$3,0)","v":{"$error":"#REF!"}},{"$f":"IF(#REF!=AQ$2,AQ$3,0)","v":{"$error":"#REF!"}},{"$f":"IF(#REF!=AR$2,AR$3,0)","v":{"$error":"#REF!"}},{"$f":"IF(#REF!=AS$2,AS$3,0)","v":{"$error":"#REF!"}},{"$f":"IF(#REF!=AT$2,AT$3,0)","v":{"$error":"#REF!"}},{"$f":"IF(#REF!=AU$2,AU$3,0)","v":{"$error":"#REF!"}},{"$f":"IF(#REF!=AV$2,AV$3,0)","v":{"$error":"#REF!"}},{"$f":"IF(#REF!=AW$2,AW$3,0)","v":{"$error":"#REF!"}},{"$f":"IF(#REF!=AX$2,AX$3,0)","v":{"$error":"#REF!"}},{"$f":"IF(#REF!=AY$2,AY$3,0)","v":{"$error":"#REF!"}},{"$f":"IF(#REF!=AZ$2,AZ$3,0)","v":{"$error":"#REF!"}},{"$f":"IF(#REF!=BA$2,BA$3,0)","v":{"$error":"#REF!"}},{"$f":"IF(#REF!=BB$2,BB$3,0)","v":{"$error":"#REF!"}},{"$f":"IF(#REF!=BC$2,BC$3,0)","v":{"$error":"#REF!"}},0,0,0,0,0,0,0,0,0,0,0,0,0,0,0,0,0,0,0,0,0,0,0,0,0,0,0,0,0,0,0,0,0,0,0,0,0,0,0,0,0,0,0,0,0,0,0,0,0,0]
[33,null,0,null,null,0,0,0,0,0,0,0,0,0,0,0,0,0,0,0,0,0,0,0,0,0,0,0,0,0,0,0,0,0,0,0,0,0,0,0,0,0,0,0,0,0,0,0,0,0,0,0,0,0,0,0,0,0,0,0,0,0,0,0,0,0,0,0,0,0,0,0,0,0,0,0,0,0,0,0,0,0,0,0,0,0,0,0,0,0,0,0,0,0,0,0,0,0,0,0,0,0,0,0,0]
[34,null,0,null,null,0,0,0,0,0,0,0,0,0,0,0,0,0,0,0,0,0,0,0,0,0,0,0,0,0,0,0,0,0,0,0,0,0,0,0,0,0,0,0,0,0,0,0,0,0,0,0,0,0,0,0,0,0,0,0,0,0,0,0,0,0,0,0,0,{"$f":"IF(BR38=BR$2,BR$3,0)","v":0},0,0,0,0,0,0,0,0,0,0,0,0,0,0,0,0,0,0,0,0,0,0,0,0,0,0,0,0,0,0,0,0,0,0,0]
[35,null,0,null,null,0,{"$f":"IF(G39=G$2,G$3,0)","v":0},0,0,0,0,0,0,0,0,0,0,0,0,0,0,0,0,0,0,0,0,0,0,0,0,0,0,0,0,0,0,0,0,0,0,0,0,0,0,0,0,0,0,0,0,0,0,0,0,0,0,0,0,0,0,0,0,0,0,0,0,0,0,0,0,0,0,0,0,0,0,0,0,0,0,0,0,0,0,0,0,0,0,0,0,0,0,0,0,0,0,0,0,0,0,0,0,0,0]
[36,null,0,null,null,0,0,0,0,0,0,0,0,0,0,0,0,0,0,0,0,0,0,0,0,0,0,0,0,0,0,0,0,0,0,0,0,0,0,0,0,0,0,0,0,0,0,0,0,0,0,0,0,0,0,0,0,0,0,0,0,0,0,0,0,0,0,0,0,0,0,0,0,0,0,0,0,0,0,0,0,0,0,0,0,0,0,0,0,0,0,0,0,0,0,0,0,0,0,0,0,0,0,0,0]
[37,null,0,null,null,0,0,0,0,0,0,0,0,0,0,0,0,0,0,0,0,0,0,0,0,0,0,0,0,0,0,0,0,0,0,0,0,0,0,0,0,0,0,0,0,0,0,0,0,0,0,0,0,0,0,0,0,0,0,0,0,0,0,0,0,0,0,0,0,0,0,0,0,0,0,0,0,0,0,0,0,0,0,0,0,0,0,0,0,0,0,0,0,0,0,0,0,0,0,0,0,0,0,0,0]
[38,null,0,null,null,0,0,0,0,0,0,0,0,0,0,0,0,0,0,0,0,0,0,0,0,0,0,0,0,0,0,0,0,0,0,0,0,0,0,0,0,0,0,0,0,0,0,0,0,0,0,0,0,0,0,0,0,0,0,0,0,0,0,0,0,0,0,0,0,{"$f":"IF(BR42=BR$2,BR$3,0)","v":0},0,0,0,0,0,0,0,0,0,0,0,0,0,0,0,0,0,0,0,0,0,0,0,0,0,0,0,0,0,0,0,0,0,0,0]
[39,null,0,null,null,0,{"$f":"IF(G43=G$2,G$3,0)","v":0},0,0,0,0,0,0,0,0,0,0,0,0,0,0,0,0,0,0,0,0,0,0,0,0,0,0,0,0,0,0,0,0,0,0,0,0,0,0,0,0,0,0,0,0,0,0,0,0,0,0,0,0,0,0,0,0,0,0,0,0,0,0,0,0,0,0,0,0,0,0,0,0,0,0,0,0,0,0,0,0,0,0,0,0,0,0,0,0,0,0,0,0,0,0,0,0,0,0]
[40,null,0,null,null,0,0,0,0,0,0,0,0,0,0,0,0,0,0,0,0,0,0,0,0,0,0,0,0,0,0,0,0,0,0,0,0,0,0,0,0,0,0,0,0,0,0,0,0,0,0,0,0,0,0,0,0,0,0,0,0,0,0,0,0,0,0,0,0,0,0,0,0,0,0,0,0,0,0,0,0,0,0,0,0,0,0,0,0,0,0,0,0,0,0,0,0,0,0,0,0,0,0,0,0]
[41,null,0,null,null,0,0,0,0,0,0,0,0,0,0,0,0,0,0,0,0,0,0,0,0,0,0,0,0,0,0,0,0,0,0,0,0,0,0,0,0,0,0,0,0,0,0,0,0,0,0,0,0,0,0,0,0,0,0,0,0,0,0,0,0,0,0,0,0,0,0,0,0,0,0,0,0,0,0,0,0,0,0,0,0,0,0,0,0,0,0,0,0,0,0,0,0,0,0,0,0,0,0,0,0]
[42,null,0,null,null,0,0,0,0,0,0,0,0,0,0,0,0,0,0,0,0,0,0,0,0,0,0,0,0,0,0,0,0,0,0,0,0,0,0,0,0,0,0,0,0,0,0,0,0,0,0,0,0,0,0,0,0,0,0,0,0,0,0,0,0,0,0,0,0,{"$f":"IF(BR46=BR$2,BR$3,0)","v":0},0,0,0,0,0,0,0,0,0,0,0,0,0,0,0,0,0,0,0,0,0,0,0,0,0,0,0,0,0,0,0,0,0,0,0]
[43,null,0,null,null,0,{"$f":"IF(G47=G$2,G$3,0)","v":0},0,0,0,0,0,0,0,0,0,0,0,0,0,0,0,0,0,0,0,0,0,0,0,0,0,0,0,0,0,0,0,0,0,0,0,0,0,0,0,0,0,0,0,0,0,0,0,0,0,0,0,0,0,0,0,0,0,0,0,0,0,0,0,0,0,0,0,0,0,0,0,0,0,0,0,0,0,0,0,0,0,0,0,0,0,0,0,0,0,0,0,0,0,0,0,0,0,0]
[44,null,0,null,null,0,0,0,0,0,0,0,0,0,0,0,0,0,0,0,0,0,0,0,0,0,0,0,0,0,0,0,0,0,0,0,0,0,0,0,0,0,0,0,0,0,0,0,0,0,0,0,0,0,0,0,0,0,0,0,0,0,0,0,0,0,0,0,0,0,0,0,0,0,0,0,0,0,0,0,0,0,0,0,0,0,0,0,0,0,0,0,0,0,0,0,0,0,0,0,0,0,0,0,0]
[45,null,0,null,null,0,0,0,0,0,0,0,0,0,0,0,0,0,0,0,0,0,0,0,0,0,0,0,0,0,0,0,0,0,0,0,0,0,0,0,0,0,0,0,0,0,0,0,0,0,0,0,0,0,0,0,0,0,0,0,0,0,0,0,0,0,0,0,0,0,0,0,0,0,0,0,0,0,0,0,0,0,0,0,0,0,0,0,0,0,0,0,0,0,0,0,0,0,0,0,0,0,0,0,0]

{"sheet":"成績票","index":1,"n_rows":62,"n_cols":28,"rows_kept":62,"cut":false,"hidden":false,"merged":[[61,24,62,27],[40,24,41,27],[22,1,22,28],[43,1,43,28],[45,2,45,12],[45,14,45,19],[45,20,45,21],[45,22,45,27],[40,9,41,13],[40,14,41,17],[40,19,41,23],[61,9,62,13],[61,14,62,17],[61,19,62,23],[19,24,20,27],[24,2,24,12],[24,14,24,19],[24,20,24,21],[24,22,24,27],[19,19,20,23],[19,14,20,17],[19,9,20,13],[0,14,0,16],[1,14,1,16],[0,17,0,23],[3,2,3,12],[3,14,3,19],[3,20,3,21],[3,22,3,27],[0,2,0,3],[1,2,1,3],[0,4,0,12],[1,4,1,12]]}
[null,null,"科目名",null,"情報技術",null,null,null,null,null,null,null,null,null,"クラス",null,null,"１年情報通信科"]
[null,null,"考査名",null,"１学期中間考査"]
[]
[null,null,{"$f":"$E$1&\"　\"&$E$2","v":"情報技術　１学期中間考査"},null,null,null,null,null,null,null,null,null,null,null,{"$f":"$R$1","v":"１年情報通信科"}]
["A4に3人印刷",null,"問題",1,2,3,4,5,6,7,8,9,10,11,12,13,14,15,16,17,18,19,20,21,22,23,24,25]
[null,null,"回答"]
[null,null,"正否"]
[]
[null,null,"問題",26,27,28,29,30,31,32,33,34,35,36,37,38,39,40,41,42,43,44,45,46,47,48,49,50]
[null,null,"回答"]
[null,null,"正否"]
[]
[null,null,"問題",51,52,53,54,55,56,57,58,59,60,61,62,63,64,65,66,67,68,69,70,71,72,73,74,75]
[null,null,"回答"]
[null,null,"正否"]
[]
[null,null,"問題",76,77,78,79,80,81,82,83,84,85,86,87,88,89,90,91,92,93,94,95,96,97,98,99,100]
[null,null,"回答"]
[null,null,"正否"]
[null,null,null,null,null,null,null,null,null,"知識・技術",null,null,null,null,null,null,null,null,null,"思考・判断・表現"]
[]
[]
[]
[]
[null,null,{"$f":"$E$1&\"　\"&$E$2","v":"情報技術　１学期中間考査"},null,null,null,null,null,null,null,null,null,null,null,{"$f":"$R$1","v":"１年情報通信科"}]
[null,null,"問題",1,2,3,4,5,6,7,8,9,10,11,12,13,14,15,16,17,18,19,20,21,22,23,24,25]
[null,null,"回答"]
[null,null,"正否"]
[]
[null,null,"問題",26,27,28,29,30,31,32,33,34,35,36,37,38,39,40,41,42,43,44,45,46,47,48,49,50]
[null,null,"回答"]
[null,null,"正否"]
[]
[null,null,"問題",51,52,53,54,55,56,57,58,59,60,61,62,63,64,65,66,67,68,69,70,71,72,73,74,75]
[null,null,"回答"]
[null,null,"正否"]
[]
[null,null,"問題",76,77,78,79,80,81,82,83,84,85,86,87,88,89,90,91,92,93,94,95,96,97,98,99,100]
[null,null,"回答"]
[null,null,"正否"]
[null,null,null,null,null,null,null,null,null,"知識・技術",null,null,null,null,null,null,null,null,null,"思考・判断・表現"]
[]
[]
[]
[]
[null,null,{"$f":"$E$1&\"　\"&$E$2","v":"情報技術　１学期中間考査"},null,null,null,null,null,null,null,null,null,null,null,{"$f":"$R$1","v":"１年情報通信科"}]
[null,null,"問題",1,2,3,4,5,6,7,8,9,10,11,12,13,14,15,16,17,18,19,20,21,22,23,24,25]
[null,null,"回答"]
[null,null,"正否"]
[]
[null,null,"問題",26,27,28,29,30,31,32,33,34,35,36,37,38,39,40,41,42,43,44,45,46,47,48,49,50]
[null,null,"回答"]
[null,null,"正否"]
[]
[null,null,"問題",51,52,53,54,55,56,57,58,59,60,61,62,63,64,65,66,67,68,69,70,71,72,73,74,75]
[null,null,"回答"]
[null,null,"正否"]
[]
[null,null,"問題",76,77,78,79,80,81,82,83,84,85,86,87,88,89,90,91,92,93,94,95,96,97,98,99,100]
[null,null,"回答"]
[null,null,"正否"]
[null,null,null,null,null,null,null,null,null,"知識・技術",null,null,null,null,null,null,null,null,null,"思考・判断・表現"]

{"sheet":"成績票２","index":2,"n_rows":49,"n_cols":28,"rows_kept":49,"cut":false,"hidden":false,"merged":[[0,2,0,3],[0,4,0,12],[0,14,0,16],[0,17,0,23],[1,2,1,3],[1,4,1,12],[1,14,1,16],[3,2,3,12],[3,14,3,19],[3,20,3,21],[3,22,3,27],[23,9,24,13],[23,14,24,17],[23,19,24,23],[23,24,24,27],[48,9,49,13],[48,14,49,17],[48,19,49,23],[48,24,49,27],[26,1,26,28],[28,2,28,12],[28,14,28,19],[28,20,28,21],[28,22,28,27]]}
[null,null,"科目名",null,"情報技術",null,null,null,null,null,null,null,null,null,"クラス",null,null,"１年情報通信科"]
[null,null,"考査名",null,"１学期中間考査"]
[]
[]
["A4に2人印刷",null,"問題",1,2,3,4,5,6,7,8,9,10,11,12,13,14,15,16,17,18,19,20,21,22,23,24,25]
[null,null,"正答"]
[null,null,"ﾏｰｸ"]
[null,null,"正否"]
[]
[null,null,"問題",26,27,28,29,30,31,32,33,34,35,36,37,38,39,40,41,42,43,44,45,46,47,48,49,50]
[null,null,"正答"]
[null,null,"ﾏｰｸ"]
[null,null,"正否"]
[]
[null,null,"問題",51,52,53,54,55,56,57,58,59,60,61,62,63,64,65,66,67,68,69,70,71,72,73,74,75]
[null,null,"正答"]
[null,null,"ﾏｰｸ"]
[null,null,"正否"]
[]
[null,null,"問題",76,77,78,79,80,81,82,83,84,85,86,87,88,89,90,91,92,93,94,95,96,97,98,99,100]
[null,null,"正答"]
[null,null,"ﾏｰｸ"]
[null,null,"正否"]
[null,null,null,null,null,null,null,null,null,"知識・技術",null,null,null,null,null,null,null,null,null,"思考・判断・表現"]
[]
[]
[]
[]
[]
[null,null,"問題",1,2,3,4,5,6,7,8,9,10,11,12,13,14,15,16,17,18,19,20,21,22,23,24,25]
[null,null,"正答"]
[null,null,"ﾏｰｸ"]
[null,null,"正否"]
[]
[null,null,"問題",26,27,28,29,30,31,32,33,34,35,36,37,38,39,40,41,42,43,44,45,46,47,48,49,50]
[null,null,"正答"]
[null,null,"ﾏｰｸ"]
[null,null,"正否"]
[]
[null,null,"問題",51,52,53,54,55,56,57,58,59,60,61,62,63,64,65,66,67,68,69,70,71,72,73,74,75]
[null,null,"正答"]
[null,null,"ﾏｰｸ"]
[null,null,"正否"]
[]
[null,null,"問題",76,77,78,79,80,81,82,83,84,85,86,87,88,89,90,91,92,93,94,95,96,97,98,99,100]
[null,null,"正答"]
[null,null,"ﾏｰｸ"]
[null,null,"正否"]
[null,null,null,null,null,null,null,null,null,"知識・技術",null,null,null,null,null,null,null,null,null,"思考・判断・表現"]